BEGIN:VCALENDAR
VERSION:2.0
PRODID:-//Heimatverein Lesum - ECPv6.15.20//NONSGML v1.0//EN
CALSCALE:GREGORIAN
METHOD:PUBLISH
X-WR-CALNAME:Heimatverein Lesum
X-ORIGINAL-URL:https://heimatverein-lesum.de
X-WR-CALDESC:Veranstaltungen für Heimatverein Lesum
REFRESH-INTERVAL;VALUE=DURATION:PT1H
X-Robots-Tag:noindex
X-PUBLISHED-TTL:PT1H
BEGIN:VTIMEZONE
TZID:Europe/Berlin
BEGIN:DAYLIGHT
TZOFFSETFROM:+0100
TZOFFSETTO:+0200
TZNAME:CEST
DTSTART:20230326T010000
END:DAYLIGHT
BEGIN:STANDARD
TZOFFSETFROM:+0200
TZOFFSETTO:+0100
TZNAME:CET
DTSTART:20231029T010000
END:STANDARD
BEGIN:DAYLIGHT
TZOFFSETFROM:+0100
TZOFFSETTO:+0200
TZNAME:CEST
DTSTART:20240331T010000
END:DAYLIGHT
BEGIN:STANDARD
TZOFFSETFROM:+0200
TZOFFSETTO:+0100
TZNAME:CET
DTSTART:20241027T010000
END:STANDARD
BEGIN:DAYLIGHT
TZOFFSETFROM:+0100
TZOFFSETTO:+0200
TZNAME:CEST
DTSTART:20250330T010000
END:DAYLIGHT
BEGIN:STANDARD
TZOFFSETFROM:+0200
TZOFFSETTO:+0100
TZNAME:CET
DTSTART:20251026T010000
END:STANDARD
END:VTIMEZONE
BEGIN:VEVENT
DTSTART;TZID=Europe/Berlin:20240906T133000
DTEND;TZID=Europe/Berlin:20240906T133000
DTSTAMP:20260422T190216
CREATED:20240425T133835Z
LAST-MODIFIED:20240425T133835Z
UID:2261-1725629400-1725629400@heimatverein-lesum.de
SUMMARY:Radwanderung
DESCRIPTION:Treffpunkt: 13:30 Uhr Fähre Vegesack \n\n\n\nÄnderungen erfolgen nur nach Absprache. \n\n\n\nKontakt:Hermann Denker 63 65 653 / Mobil: 0176 50 44 47 69Erwin Treichel 67 36 81 80 / Mobil: 0173 42 26 747Reinhard Dohr 63 61 776 / Mobil: 0162 97 76 518Werner Rissmeier 36 16 31 / Mobil: 0170 47 14 583 \n\n\n\nDie Teilnahme an den Radtouren erfolgt auf eigene Gefahr. Unsere Tourenleiter übernehmen keine Haftung bei einem Unfall oder bei Schäden. \nDie Teilnehmer:innen versichern\, dass Sie keine Erkältungssymptome haben und nicht ansteckend sind.
URL:https://heimatverein-lesum.de/event/radwanderung-20240906/
LOCATION:Fähre Vegesack
CATEGORIES:Radwanderung
END:VEVENT
END:VCALENDAR