BEGIN:VCALENDAR
VERSION:2.0
PRODID:-//Heimatverein Lesum - ECPv6.15.20//NONSGML v1.0//EN
CALSCALE:GREGORIAN
METHOD:PUBLISH
X-ORIGINAL-URL:https://heimatverein-lesum.de
X-WR-CALDESC:Veranstaltungen für Heimatverein Lesum
REFRESH-INTERVAL;VALUE=DURATION:PT1H
X-Robots-Tag:noindex
X-PUBLISHED-TTL:PT1H
BEGIN:VTIMEZONE
TZID:Europe/Berlin
BEGIN:DAYLIGHT
TZOFFSETFROM:+0100
TZOFFSETTO:+0200
TZNAME:CEST
DTSTART:20230326T010000
END:DAYLIGHT
BEGIN:STANDARD
TZOFFSETFROM:+0200
TZOFFSETTO:+0100
TZNAME:CET
DTSTART:20231029T010000
END:STANDARD
BEGIN:DAYLIGHT
TZOFFSETFROM:+0100
TZOFFSETTO:+0200
TZNAME:CEST
DTSTART:20240331T010000
END:DAYLIGHT
BEGIN:STANDARD
TZOFFSETFROM:+0200
TZOFFSETTO:+0100
TZNAME:CET
DTSTART:20241027T010000
END:STANDARD
BEGIN:DAYLIGHT
TZOFFSETFROM:+0100
TZOFFSETTO:+0200
TZNAME:CEST
DTSTART:20250330T010000
END:DAYLIGHT
BEGIN:STANDARD
TZOFFSETFROM:+0200
TZOFFSETTO:+0100
TZNAME:CET
DTSTART:20251026T010000
END:STANDARD
END:VTIMEZONE
BEGIN:VEVENT
DTSTART;TZID=Europe/Berlin:20240809T133000
DTEND;TZID=Europe/Berlin:20240809T133000
DTSTAMP:20260425T140713
CREATED:20240425T133644Z
LAST-MODIFIED:20240425T133644Z
UID:2259-1723210200-1723210200@heimatverein-lesum.de
SUMMARY:Radwanderung
DESCRIPTION:Treffpunkt: 13:30 Uhr Denkmal \n\n\n\nÄnderungen erfolgen nur nach Absprache. \n\n\n\nKontakt:Hermann Denker 63 65 653 / Mobil: 0176 50 44 47 69Erwin Treichel 67 36 81 80 / Mobil: 0173 42 26 747Reinhard Dohr 63 61 776 / Mobil: 0162 97 76 518Werner Rissmeier 36 16 31 / Mobil: 0170 47 14 583 \n\n\n\nDie Teilnahme an den Radtouren erfolgt auf eigene Gefahr. Unsere Tourenleiter übernehmen keine Haftung bei einem Unfall oder bei Schäden. \nDie Teilnehmer:innen versichern\, dass Sie keine Erkältungssymptome haben und nicht ansteckend sind.
URL:https://heimatverein-lesum.de/event/radwanderung-20240809/
LOCATION:Denkmal
CATEGORIES:Radwanderung
END:VEVENT
BEGIN:VEVENT
DTSTART;TZID=Europe/Berlin:20240814T150000
DTEND;TZID=Europe/Berlin:20240814T150000
DTSTAMP:20260425T140713
CREATED:20240312T100953Z
LAST-MODIFIED:20240425T134024Z
UID:2147-1723647600-1723647600@heimatverein-lesum.de
SUMMARY:Burg Blomendal
DESCRIPTION:Besichtigung der mittelalterlichen Wasserburg\, die zugleich das älteste Profangebäude Bremens ist. Im 14. Jahrhundert von Raubrittern erbaut und bewohnt\, steht sie heute unter Denkmalschutz. Es befindet sich hier ein Heimatmuseum\, eine Außenstelle des Standesamtes\, eine Kita und es gibt etliche Veranstaltungen. \n\nBegrenzt auf 20 Personen\nKosten 5 €\nAnmeldung und Überweisung bis 13.08.\nVerwendungszweck: 140824\n\nFür kostenpflichtige Veranstaltungen gilt: \n\nAnmelden mit Telefonnummer oder Mailadresse (für eventuelle Rückfragen oder Absagen)\nÜberweisen auf das Veranstaltungskonto Heimatverein Lesum\, DE72 2905 0101 0082 2625 02\nVerwendungszweck angeben\n\nFoto: Bernd Suhr
URL:https://heimatverein-lesum.de/event/burg-blomendal/
LOCATION:Burg Blomendal\, Auestraße 9A\, Blumenthal
ATTACH;FMTTYPE=image/jpeg:https://heimatverein-lesum.de/wp-content/uploads/burg-blomendal.jpg
END:VEVENT
BEGIN:VEVENT
DTSTART;TZID=Europe/Berlin:20240815T183000
DTEND;TZID=Europe/Berlin:20240815T183000
DTSTAMP:20260425T140713
CREATED:20240312T101343Z
LAST-MODIFIED:20240816T134448Z
UID:2152-1723746600-1723746600@heimatverein-lesum.de
SUMMARY:Dienstleistungszentrum Lesum – Einblick in die Angebote und Hilfemöglichkeiten des DLZ
DESCRIPTION:Herr Opelt\, Leiter des DLZ\, verschafft Interessierten einen Einblick in die Arbeit des DLZ. Es ist eines von 17 Dienstleistungszentren in Bremen\, betrieben von Wohlfahrtsverbänden und der Senatorin für Soziales. Es bietet unabhängige Information und Beratung für ältere Menschen und Menschen mit Behinderungen und chronischen Erkrankungen. Es vermittelt auch Ehrenamtliche für die Nachbarschaftshilfe. \n\nAnmeldung bis 13.08.\nEintritt frei\, Spenden erbeten
URL:https://heimatverein-lesum.de/event/dienstleistungszentrum-lesum-einblick-in-die-angebote-und-hilfemoeglichkeiten-des-dlz/
LOCATION:Sparkasse
END:VEVENT
BEGIN:VEVENT
DTSTART;TZID=Europe/Berlin:20240823T133000
DTEND;TZID=Europe/Berlin:20240823T133000
DTSTAMP:20260425T140713
CREATED:20240425T133741Z
LAST-MODIFIED:20240425T133741Z
UID:2260-1724419800-1724419800@heimatverein-lesum.de
SUMMARY:Radwanderung
DESCRIPTION:Treffpunkt: 13:30 Uhr Leuchtenburg Parkplatz \n\n\n\nÄnderungen erfolgen nur nach Absprache. \n\n\n\nKontakt:Hermann Denker 63 65 653 / Mobil: 0176 50 44 47 69Erwin Treichel 67 36 81 80 / Mobil: 0173 42 26 747Reinhard Dohr 63 61 776 / Mobil: 0162 97 76 518Werner Rissmeier 36 16 31 / Mobil: 0170 47 14 583 \n\n\n\nDie Teilnahme an den Radtouren erfolgt auf eigene Gefahr. Unsere Tourenleiter übernehmen keine Haftung bei einem Unfall oder bei Schäden. \nDie Teilnehmer:innen versichern\, dass Sie keine Erkältungssymptome haben und nicht ansteckend sind.
URL:https://heimatverein-lesum.de/event/radwanderung-20240823/
LOCATION:Leuchtenburg Parkplatz
CATEGORIES:Radwanderung
END:VEVENT
END:VCALENDAR