BEGIN:VCALENDAR
VERSION:2.0
PRODID:-//Heimatverein Lesum - ECPv6.15.20//NONSGML v1.0//EN
CALSCALE:GREGORIAN
METHOD:PUBLISH
X-WR-CALNAME:Heimatverein Lesum
X-ORIGINAL-URL:https://heimatverein-lesum.de
X-WR-CALDESC:Veranstaltungen für Heimatverein Lesum
REFRESH-INTERVAL;VALUE=DURATION:PT1H
X-Robots-Tag:noindex
X-PUBLISHED-TTL:PT1H
BEGIN:VTIMEZONE
TZID:Europe/Berlin
BEGIN:DAYLIGHT
TZOFFSETFROM:+0100
TZOFFSETTO:+0200
TZNAME:CEST
DTSTART:20230326T010000
END:DAYLIGHT
BEGIN:STANDARD
TZOFFSETFROM:+0200
TZOFFSETTO:+0100
TZNAME:CET
DTSTART:20231029T010000
END:STANDARD
BEGIN:DAYLIGHT
TZOFFSETFROM:+0100
TZOFFSETTO:+0200
TZNAME:CEST
DTSTART:20240331T010000
END:DAYLIGHT
BEGIN:STANDARD
TZOFFSETFROM:+0200
TZOFFSETTO:+0100
TZNAME:CET
DTSTART:20241027T010000
END:STANDARD
BEGIN:DAYLIGHT
TZOFFSETFROM:+0100
TZOFFSETTO:+0200
TZNAME:CEST
DTSTART:20250330T010000
END:DAYLIGHT
BEGIN:STANDARD
TZOFFSETFROM:+0200
TZOFFSETTO:+0100
TZNAME:CET
DTSTART:20251026T010000
END:STANDARD
END:VTIMEZONE
BEGIN:VEVENT
DTSTART;TZID=Europe/Berlin:20241004T133000
DTEND;TZID=Europe/Berlin:20241004T133000
DTSTAMP:20260422T135401
CREATED:20240920T151935Z
LAST-MODIFIED:20240921T003504Z
UID:2415-1728048600-1728048600@heimatverein-lesum.de
SUMMARY:Radwanderung
DESCRIPTION:Treffpunkt: 13:30 Uhr Denkmal \n\n\n\nÄnderungen erfolgen nur nach Absprache. \n\n\n\nKontakt:Hermann Denker 63 65 653 / Mobil: 0176 50 44 47 69Reinhard Dohr 63 61 776 / Mobil: 0162 97 76 518 \n\n\n\nDie Teilnahme an den Radtouren erfolgt auf eigene Gefahr. Unsere Tourenleiter übernehmen keine Haftung bei einem Unfall oder bei Schäden. \nDie Teilnehmer:innen versichern\, dass Sie keine Erkältungssymptome haben und nicht ansteckend sind.
URL:https://heimatverein-lesum.de/event/radwanderung-20241004/
LOCATION:Denkmal
CATEGORIES:Radwanderung
END:VEVENT
BEGIN:VEVENT
DTSTART;TZID=Europe/Berlin:20241009T125000
DTEND;TZID=Europe/Berlin:20241009T170000
DTSTAMP:20260422T135401
CREATED:20240830T074048Z
LAST-MODIFIED:20240830T075442Z
UID:2361-1728478200-1728493200@heimatverein-lesum.de
SUMMARY:Durch die Bremer Schweiz
DESCRIPTION:Wanderung mit Horst Schloendorff über Auetalweg\, Thüringer Weg\, Schönebecker Schloss nach Vegesack. \nLänge 11 km\, Ende gegen 17 Uhr\, Café-Einkehr in Vegesack möglich.\nAnmeldung und Info am Vortag\, Tel. 621932
URL:https://heimatverein-lesum.de/event/durch-die-bremer-schweiz/
LOCATION:Bahnhof St. Magnus
CATEGORIES:Wanderung
END:VEVENT
BEGIN:VEVENT
DTSTART;TZID=Europe/Berlin:20241010T170000
DTEND;TZID=Europe/Berlin:20241010T170000
DTSTAMP:20260422T135401
CREATED:20240830T074341Z
LAST-MODIFIED:20240830T074341Z
UID:2363-1728579600-1728579600@heimatverein-lesum.de
SUMMARY:Bei den Modelleisenbahnfreunden in Grohn
DESCRIPTION:Die Modelleisenbahnfreunde Bremen e.V. (auf dem Campus der Constructor University) zeigen eine 100 qm große Anlage für Interessierte. Für eine kleine Stärkung im Anschluss wird gesorgt. \nBegrenzt auf 20 Personen\nKosten 6 €\nAnmeldung und Bezahlung bis 08.10.24\, Verwendungszweck 101024
URL:https://heimatverein-lesum.de/event/bei-den-modelleisenbahnfreunden-in-grohn/
LOCATION:Bruno-Bürgel-Str.\, Treffpunkt Einfahrt Constructor University
END:VEVENT
BEGIN:VEVENT
DTSTART;VALUE=DATE:20241013
DTEND;VALUE=DATE:20241014
DTSTAMP:20260422T135401
CREATED:20240921T010158Z
LAST-MODIFIED:20240921T010158Z
UID:2440-1728777600-1728863999@heimatverein-lesum.de
SUMMARY:Theaterfahrt nach Bremerhaven – Der Diener zweier Herren
DESCRIPTION:„Der Diener zweier Herren“Komödie von Carlo Coldoni \n\n\n\nAbfahrtszeiten und -orte:13:18 Uhr An Smidts Park13:20 Uhr Burg13:25 Uhr Stehnckenshoff13:27 Uhr Lesum / Kirche13:30 Uhr Lesum / Bahnhof13:35 Uhr Schule „Vor dem Heisterbusch“13:40 Uhr Am Heidbergstift13:42 Uhr Burgdammer Postweg / Bremerhavener Heerstr. \n\n\n\nLeitung: Doris Treichel\, Tel. 0421 67368180 \n\n\n\nWeitere Theaterfahrten
URL:https://heimatverein-lesum.de/event/theaterfahrt-nach-bremerhaven-der-diener-zweier-herren/
CATEGORIES:Theaterfahrt
END:VEVENT
BEGIN:VEVENT
DTSTART;TZID=Europe/Berlin:20241018T133000
DTEND;TZID=Europe/Berlin:20241018T133000
DTSTAMP:20260422T135401
CREATED:20240920T152846Z
LAST-MODIFIED:20240920T152846Z
UID:2422-1729258200-1729258200@heimatverein-lesum.de
SUMMARY:Radwanderung Jahresabschlussfahrt
DESCRIPTION:Jahresabschlussfahrt\nTreffpunkt: 13:30 Uhr Lesumbrücke \nÄnderungen erfolgen nur nach Absprache. \nKontakt:\nHermann Denker\, Tel.: 0421 6365653\, Mobil: 0176 50444769\nReinhard Dohr\, Tel: 0421 6361776\, Mobil: 0162 9776518
URL:https://heimatverein-lesum.de/event/radwanderung-jahresabschlussfahrt-2024/
LOCATION:Lesumbrücke
CATEGORIES:Radwanderung
END:VEVENT
BEGIN:VEVENT
DTSTART;TZID=Europe/Berlin:20241022T183000
DTEND;TZID=Europe/Berlin:20241022T183000
DTSTAMP:20260422T135401
CREATED:20240830T075156Z
LAST-MODIFIED:20241013T083212Z
UID:2366-1729621800-1729621800@heimatverein-lesum.de
SUMMARY:„In Minuten durch die Jahre“
DESCRIPTION:Gesine Lange\, Tochter des Bundespräsidenten a.D. Joachim Gauck\, berichtet aus ihrem Leben in der DDR vor dem Mauerfall\, speziell aus Anlass 35 Jahre Mauerfall. Im Anschluss ist ein Gedankenaustausch möglich. \nAnmeldung erforderlich bis 15.10.24\nEintritt frei – Spenden erbeten
URL:https://heimatverein-lesum.de/event/in-minuten-durch-die-jahre/
LOCATION:Stadtbibliothek Lesum
END:VEVENT
END:VCALENDAR